BEGIN:VCALENDAR
VERSION:2.0
PRODID:-//City of Huntsville - ECPv6.15.20//NONSGML v1.0//EN
CALSCALE:GREGORIAN
METHOD:PUBLISH
X-WR-CALNAME:City of Huntsville
X-ORIGINAL-URL:https://www.huntsvilleal.gov
X-WR-CALDESC:Events for City of Huntsville
REFRESH-INTERVAL;VALUE=DURATION:PT1H
X-Robots-Tag:noindex
X-PUBLISHED-TTL:PT1H
BEGIN:VTIMEZONE
TZID:America/Chicago
BEGIN:DAYLIGHT
TZOFFSETFROM:-0600
TZOFFSETTO:-0500
TZNAME:CDT
DTSTART:20290311T080000
END:DAYLIGHT
BEGIN:STANDARD
TZOFFSETFROM:-0500
TZOFFSETTO:-0600
TZNAME:CST
DTSTART:20291104T070000
END:STANDARD
BEGIN:DAYLIGHT
TZOFFSETFROM:-0600
TZOFFSETTO:-0500
TZNAME:CDT
DTSTART:20300310T080000
END:DAYLIGHT
BEGIN:STANDARD
TZOFFSETFROM:-0500
TZOFFSETTO:-0600
TZNAME:CST
DTSTART:20301103T070000
END:STANDARD
BEGIN:DAYLIGHT
TZOFFSETFROM:-0600
TZOFFSETTO:-0500
TZNAME:CDT
DTSTART:20310309T080000
END:DAYLIGHT
BEGIN:STANDARD
TZOFFSETFROM:-0500
TZOFFSETTO:-0600
TZNAME:CST
DTSTART:20311102T070000
END:STANDARD
BEGIN:DAYLIGHT
TZOFFSETFROM:-0600
TZOFFSETTO:-0500
TZNAME:CDT
DTSTART:20320314T080000
END:DAYLIGHT
BEGIN:STANDARD
TZOFFSETFROM:-0500
TZOFFSETTO:-0600
TZNAME:CST
DTSTART:20321107T070000
END:STANDARD
END:VTIMEZONE
BEGIN:VEVENT
DTSTART;TZID=America/Chicago:20301015T180000
DTEND;TZID=America/Chicago:20301015T180000
DTSTAMP:20260422T092658
CREATED:20260324T212153Z
LAST-MODIFIED:20260324T212153Z
UID:10118185-1918317600-1918317600@www.huntsvilleal.gov
SUMMARY:Board of Zoning Adjustment Meeting
DESCRIPTION:The Board of Zoning Adjustment meets the third Tuesday every month at 6 p.m. in Room 621\, Huntsville City Hall\, 305 Fountain Circle.
URL:https://www.huntsvilleal.gov/city-calendar-event/board-of-zoning-adjustment-meeting/2030-10-15/
LOCATION:Huntsville City Hall\, 305 Fountain Circle\, Huntsville\, AL\, 35801\, United States
CATEGORIES:Planning Department
GEO:34.7281249;-86.5866661
X-APPLE-STRUCTURED-LOCATION;VALUE=URI;X-ADDRESS=Huntsville City Hall 305 Fountain Circle Huntsville AL 35801 United States;X-APPLE-RADIUS=500;X-TITLE=305 Fountain Circle:geo:-86.5866661,34.7281249
END:VEVENT
BEGIN:VEVENT
DTSTART;TZID=America/Chicago:20301022T170000
DTEND;TZID=America/Chicago:20301022T170000
DTSTAMP:20260422T092658
CREATED:20251230T153455Z
LAST-MODIFIED:20260127T153947Z
UID:10117452-1918918800-1918918800@www.huntsvilleal.gov
SUMMARY:Planning Commission Meeting
DESCRIPTION:Planning Commission meetings are held in the 2nd floor Chamber at City Hall on the 4th Tuesday of each month at 5 p.m.\, unless otherwise noted.
URL:https://www.huntsvilleal.gov/city-calendar-event/planning-commission-meeting-7/2030-10-22/
LOCATION:City Council Chamber\, 305 Fountain Circle\, Huntsville\, 35801
CATEGORIES:Planning Department
GEO:34.7281492;-86.5865781
X-APPLE-STRUCTURED-LOCATION;VALUE=URI;X-ADDRESS=City Council Chamber 305 Fountain Circle Huntsville 35801;X-APPLE-RADIUS=500;X-TITLE=305 Fountain Circle:geo:-86.5865781,34.7281492
END:VEVENT
BEGIN:VEVENT
DTSTART;TZID=America/Chicago:20301113T073000
DTEND;TZID=America/Chicago:20301113T073000
DTSTAMP:20260422T092658
CREATED:20260324T213157Z
LAST-MODIFIED:20260324T213157Z
UID:10118247-1920785400-1920785400@www.huntsvilleal.gov
SUMMARY:Zoning Committee Meeting
DESCRIPTION:The Zoning Committee meets on the second Wednesday each month at 7:30 p.m. at Huntsville City Hall\, 305 Fountain Circle.
URL:https://www.huntsvilleal.gov/city-calendar-event/zoning-committee-meeting/2030-11-13/
LOCATION:Huntsville City Hall\, 305 Fountain Circle\, Huntsville\, AL\, 35801\, United States
CATEGORIES:Planning Department
GEO:34.7281249;-86.5866661
X-APPLE-STRUCTURED-LOCATION;VALUE=URI;X-ADDRESS=Huntsville City Hall 305 Fountain Circle Huntsville AL 35801 United States;X-APPLE-RADIUS=500;X-TITLE=305 Fountain Circle:geo:-86.5866661,34.7281249
END:VEVENT
BEGIN:VEVENT
DTSTART;TZID=America/Chicago:20301119T180000
DTEND;TZID=America/Chicago:20301119T180000
DTSTAMP:20260422T092658
CREATED:20260324T212153Z
LAST-MODIFIED:20260324T212153Z
UID:10118186-1921341600-1921341600@www.huntsvilleal.gov
SUMMARY:Board of Zoning Adjustment Meeting
DESCRIPTION:The Board of Zoning Adjustment meets the third Tuesday every month at 6 p.m. in Room 621\, Huntsville City Hall\, 305 Fountain Circle.
URL:https://www.huntsvilleal.gov/city-calendar-event/board-of-zoning-adjustment-meeting/2030-11-19/
LOCATION:Huntsville City Hall\, 305 Fountain Circle\, Huntsville\, AL\, 35801\, United States
CATEGORIES:Planning Department
GEO:34.7281249;-86.5866661
X-APPLE-STRUCTURED-LOCATION;VALUE=URI;X-ADDRESS=Huntsville City Hall 305 Fountain Circle Huntsville AL 35801 United States;X-APPLE-RADIUS=500;X-TITLE=305 Fountain Circle:geo:-86.5866661,34.7281249
END:VEVENT
BEGIN:VEVENT
DTSTART;TZID=America/Chicago:20301126T170000
DTEND;TZID=America/Chicago:20301126T170000
DTSTAMP:20260422T092658
CREATED:20251230T153455Z
LAST-MODIFIED:20260127T153947Z
UID:10117453-1921942800-1921942800@www.huntsvilleal.gov
SUMMARY:Planning Commission Meeting
DESCRIPTION:Planning Commission meetings are held in the 2nd floor Chamber at City Hall on the 4th Tuesday of each month at 5 p.m.\, unless otherwise noted.
URL:https://www.huntsvilleal.gov/city-calendar-event/planning-commission-meeting-7/2030-11-26/
LOCATION:City Council Chamber\, 305 Fountain Circle\, Huntsville\, 35801
CATEGORIES:Planning Department
GEO:34.7281492;-86.5865781
X-APPLE-STRUCTURED-LOCATION;VALUE=URI;X-ADDRESS=City Council Chamber 305 Fountain Circle Huntsville 35801;X-APPLE-RADIUS=500;X-TITLE=305 Fountain Circle:geo:-86.5865781,34.7281492
END:VEVENT
BEGIN:VEVENT
DTSTART;TZID=America/Chicago:20301211T073000
DTEND;TZID=America/Chicago:20301211T073000
DTSTAMP:20260422T092658
CREATED:20260324T213157Z
LAST-MODIFIED:20260324T213157Z
UID:10118248-1923204600-1923204600@www.huntsvilleal.gov
SUMMARY:Zoning Committee Meeting
DESCRIPTION:The Zoning Committee meets on the second Wednesday each month at 7:30 p.m. at Huntsville City Hall\, 305 Fountain Circle.
URL:https://www.huntsvilleal.gov/city-calendar-event/zoning-committee-meeting/2030-12-11/
LOCATION:Huntsville City Hall\, 305 Fountain Circle\, Huntsville\, AL\, 35801\, United States
CATEGORIES:Planning Department
GEO:34.7281249;-86.5866661
X-APPLE-STRUCTURED-LOCATION;VALUE=URI;X-ADDRESS=Huntsville City Hall 305 Fountain Circle Huntsville AL 35801 United States;X-APPLE-RADIUS=500;X-TITLE=305 Fountain Circle:geo:-86.5866661,34.7281249
END:VEVENT
BEGIN:VEVENT
DTSTART;TZID=America/Chicago:20301217T180000
DTEND;TZID=America/Chicago:20301217T180000
DTSTAMP:20260422T092658
CREATED:20260324T212153Z
LAST-MODIFIED:20260324T212153Z
UID:10118187-1923760800-1923760800@www.huntsvilleal.gov
SUMMARY:Board of Zoning Adjustment Meeting
DESCRIPTION:The Board of Zoning Adjustment meets the third Tuesday every month at 6 p.m. in Room 621\, Huntsville City Hall\, 305 Fountain Circle.
URL:https://www.huntsvilleal.gov/city-calendar-event/board-of-zoning-adjustment-meeting/2030-12-17/
LOCATION:Huntsville City Hall\, 305 Fountain Circle\, Huntsville\, AL\, 35801\, United States
CATEGORIES:Planning Department
GEO:34.7281249;-86.5866661
X-APPLE-STRUCTURED-LOCATION;VALUE=URI;X-ADDRESS=Huntsville City Hall 305 Fountain Circle Huntsville AL 35801 United States;X-APPLE-RADIUS=500;X-TITLE=305 Fountain Circle:geo:-86.5866661,34.7281249
END:VEVENT
BEGIN:VEVENT
DTSTART;TZID=America/Chicago:20301224T170000
DTEND;TZID=America/Chicago:20301224T170000
DTSTAMP:20260422T092658
CREATED:20251230T153455Z
LAST-MODIFIED:20260127T153947Z
UID:10117454-1924362000-1924362000@www.huntsvilleal.gov
SUMMARY:Planning Commission Meeting
DESCRIPTION:Planning Commission meetings are held in the 2nd floor Chamber at City Hall on the 4th Tuesday of each month at 5 p.m.\, unless otherwise noted.
URL:https://www.huntsvilleal.gov/city-calendar-event/planning-commission-meeting-7/2030-12-24/
LOCATION:City Council Chamber\, 305 Fountain Circle\, Huntsville\, 35801
CATEGORIES:Planning Department
GEO:34.7281492;-86.5865781
X-APPLE-STRUCTURED-LOCATION;VALUE=URI;X-ADDRESS=City Council Chamber 305 Fountain Circle Huntsville 35801;X-APPLE-RADIUS=500;X-TITLE=305 Fountain Circle:geo:-86.5865781,34.7281492
END:VEVENT
BEGIN:VEVENT
DTSTART;TZID=America/Chicago:20310108T073000
DTEND;TZID=America/Chicago:20310108T073000
DTSTAMP:20260422T092658
CREATED:20260324T213157Z
LAST-MODIFIED:20260324T213157Z
UID:10118249-1925623800-1925623800@www.huntsvilleal.gov
SUMMARY:Zoning Committee Meeting
DESCRIPTION:The Zoning Committee meets on the second Wednesday each month at 7:30 p.m. at Huntsville City Hall\, 305 Fountain Circle.
URL:https://www.huntsvilleal.gov/city-calendar-event/zoning-committee-meeting/2031-01-08/
LOCATION:Huntsville City Hall\, 305 Fountain Circle\, Huntsville\, AL\, 35801\, United States
CATEGORIES:Planning Department
GEO:34.7281249;-86.5866661
X-APPLE-STRUCTURED-LOCATION;VALUE=URI;X-ADDRESS=Huntsville City Hall 305 Fountain Circle Huntsville AL 35801 United States;X-APPLE-RADIUS=500;X-TITLE=305 Fountain Circle:geo:-86.5866661,34.7281249
END:VEVENT
BEGIN:VEVENT
DTSTART;TZID=America/Chicago:20310121T180000
DTEND;TZID=America/Chicago:20310121T180000
DTSTAMP:20260422T092658
CREATED:20260324T212153Z
LAST-MODIFIED:20260324T212153Z
UID:10118188-1926784800-1926784800@www.huntsvilleal.gov
SUMMARY:Board of Zoning Adjustment Meeting
DESCRIPTION:The Board of Zoning Adjustment meets the third Tuesday every month at 6 p.m. in Room 621\, Huntsville City Hall\, 305 Fountain Circle.
URL:https://www.huntsvilleal.gov/city-calendar-event/board-of-zoning-adjustment-meeting/2031-01-21/
LOCATION:Huntsville City Hall\, 305 Fountain Circle\, Huntsville\, AL\, 35801\, United States
CATEGORIES:Planning Department
GEO:34.7281249;-86.5866661
X-APPLE-STRUCTURED-LOCATION;VALUE=URI;X-ADDRESS=Huntsville City Hall 305 Fountain Circle Huntsville AL 35801 United States;X-APPLE-RADIUS=500;X-TITLE=305 Fountain Circle:geo:-86.5866661,34.7281249
END:VEVENT
BEGIN:VEVENT
DTSTART;TZID=America/Chicago:20310212T073000
DTEND;TZID=America/Chicago:20310212T073000
DTSTAMP:20260422T092658
CREATED:20260324T213157Z
LAST-MODIFIED:20260324T213157Z
UID:10118250-1928647800-1928647800@www.huntsvilleal.gov
SUMMARY:Zoning Committee Meeting
DESCRIPTION:The Zoning Committee meets on the second Wednesday each month at 7:30 p.m. at Huntsville City Hall\, 305 Fountain Circle.
URL:https://www.huntsvilleal.gov/city-calendar-event/zoning-committee-meeting/2031-02-12/
LOCATION:Huntsville City Hall\, 305 Fountain Circle\, Huntsville\, AL\, 35801\, United States
CATEGORIES:Planning Department
GEO:34.7281249;-86.5866661
X-APPLE-STRUCTURED-LOCATION;VALUE=URI;X-ADDRESS=Huntsville City Hall 305 Fountain Circle Huntsville AL 35801 United States;X-APPLE-RADIUS=500;X-TITLE=305 Fountain Circle:geo:-86.5866661,34.7281249
END:VEVENT
BEGIN:VEVENT
DTSTART;TZID=America/Chicago:20310218T180000
DTEND;TZID=America/Chicago:20310218T180000
DTSTAMP:20260422T092658
CREATED:20260324T212153Z
LAST-MODIFIED:20260324T212153Z
UID:10118189-1929204000-1929204000@www.huntsvilleal.gov
SUMMARY:Board of Zoning Adjustment Meeting
DESCRIPTION:The Board of Zoning Adjustment meets the third Tuesday every month at 6 p.m. in Room 621\, Huntsville City Hall\, 305 Fountain Circle.
URL:https://www.huntsvilleal.gov/city-calendar-event/board-of-zoning-adjustment-meeting/2031-02-18/
LOCATION:Huntsville City Hall\, 305 Fountain Circle\, Huntsville\, AL\, 35801\, United States
CATEGORIES:Planning Department
GEO:34.7281249;-86.5866661
X-APPLE-STRUCTURED-LOCATION;VALUE=URI;X-ADDRESS=Huntsville City Hall 305 Fountain Circle Huntsville AL 35801 United States;X-APPLE-RADIUS=500;X-TITLE=305 Fountain Circle:geo:-86.5866661,34.7281249
END:VEVENT
BEGIN:VEVENT
DTSTART;TZID=America/Chicago:20310312T073000
DTEND;TZID=America/Chicago:20310312T073000
DTSTAMP:20260422T092658
CREATED:20260324T213157Z
LAST-MODIFIED:20260324T213157Z
UID:10118251-1931067000-1931067000@www.huntsvilleal.gov
SUMMARY:Zoning Committee Meeting
DESCRIPTION:The Zoning Committee meets on the second Wednesday each month at 7:30 p.m. at Huntsville City Hall\, 305 Fountain Circle.
URL:https://www.huntsvilleal.gov/city-calendar-event/zoning-committee-meeting/2031-03-12/
LOCATION:Huntsville City Hall\, 305 Fountain Circle\, Huntsville\, AL\, 35801\, United States
CATEGORIES:Planning Department
GEO:34.7281249;-86.5866661
X-APPLE-STRUCTURED-LOCATION;VALUE=URI;X-ADDRESS=Huntsville City Hall 305 Fountain Circle Huntsville AL 35801 United States;X-APPLE-RADIUS=500;X-TITLE=305 Fountain Circle:geo:-86.5866661,34.7281249
END:VEVENT
BEGIN:VEVENT
DTSTART;TZID=America/Chicago:20310318T180000
DTEND;TZID=America/Chicago:20310318T180000
DTSTAMP:20260422T092658
CREATED:20260324T212153Z
LAST-MODIFIED:20260324T212153Z
UID:10118190-1931623200-1931623200@www.huntsvilleal.gov
SUMMARY:Board of Zoning Adjustment Meeting
DESCRIPTION:The Board of Zoning Adjustment meets the third Tuesday every month at 6 p.m. in Room 621\, Huntsville City Hall\, 305 Fountain Circle.
URL:https://www.huntsvilleal.gov/city-calendar-event/board-of-zoning-adjustment-meeting/2031-03-18/
LOCATION:Huntsville City Hall\, 305 Fountain Circle\, Huntsville\, AL\, 35801\, United States
CATEGORIES:Planning Department
GEO:34.7281249;-86.5866661
X-APPLE-STRUCTURED-LOCATION;VALUE=URI;X-ADDRESS=Huntsville City Hall 305 Fountain Circle Huntsville AL 35801 United States;X-APPLE-RADIUS=500;X-TITLE=305 Fountain Circle:geo:-86.5866661,34.7281249
END:VEVENT
END:VCALENDAR