BEGIN:VCALENDAR
VERSION:2.0
PRODID:-//City of Huntsville - ECPv6.15.20//NONSGML v1.0//EN
CALSCALE:GREGORIAN
METHOD:PUBLISH
X-WR-CALNAME:City of Huntsville
X-ORIGINAL-URL:https://www.huntsvilleal.gov
X-WR-CALDESC:Events for City of Huntsville
REFRESH-INTERVAL;VALUE=DURATION:PT1H
X-Robots-Tag:noindex
X-PUBLISHED-TTL:PT1H
BEGIN:VTIMEZONE
TZID:America/Chicago
BEGIN:DAYLIGHT
TZOFFSETFROM:-0600
TZOFFSETTO:-0500
TZNAME:CDT
DTSTART:20160313T080000
END:DAYLIGHT
BEGIN:STANDARD
TZOFFSETFROM:-0500
TZOFFSETTO:-0600
TZNAME:CST
DTSTART:20161106T070000
END:STANDARD
BEGIN:DAYLIGHT
TZOFFSETFROM:-0600
TZOFFSETTO:-0500
TZNAME:CDT
DTSTART:20170312T080000
END:DAYLIGHT
BEGIN:STANDARD
TZOFFSETFROM:-0500
TZOFFSETTO:-0600
TZNAME:CST
DTSTART:20171105T070000
END:STANDARD
BEGIN:DAYLIGHT
TZOFFSETFROM:-0600
TZOFFSETTO:-0500
TZNAME:CDT
DTSTART:20180311T080000
END:DAYLIGHT
BEGIN:STANDARD
TZOFFSETFROM:-0500
TZOFFSETTO:-0600
TZNAME:CST
DTSTART:20181104T070000
END:STANDARD
BEGIN:DAYLIGHT
TZOFFSETFROM:-0600
TZOFFSETTO:-0500
TZNAME:CDT
DTSTART:20190310T080000
END:DAYLIGHT
BEGIN:STANDARD
TZOFFSETFROM:-0500
TZOFFSETTO:-0600
TZNAME:CST
DTSTART:20191103T070000
END:STANDARD
BEGIN:DAYLIGHT
TZOFFSETFROM:-0600
TZOFFSETTO:-0500
TZNAME:CDT
DTSTART:20200308T080000
END:DAYLIGHT
BEGIN:STANDARD
TZOFFSETFROM:-0500
TZOFFSETTO:-0600
TZNAME:CST
DTSTART:20201101T070000
END:STANDARD
BEGIN:DAYLIGHT
TZOFFSETFROM:-0600
TZOFFSETTO:-0500
TZNAME:CDT
DTSTART:20210314T080000
END:DAYLIGHT
BEGIN:STANDARD
TZOFFSETFROM:-0500
TZOFFSETTO:-0600
TZNAME:CST
DTSTART:20211107T070000
END:STANDARD
BEGIN:DAYLIGHT
TZOFFSETFROM:-0600
TZOFFSETTO:-0500
TZNAME:CDT
DTSTART:20220313T080000
END:DAYLIGHT
BEGIN:STANDARD
TZOFFSETFROM:-0500
TZOFFSETTO:-0600
TZNAME:CST
DTSTART:20221106T070000
END:STANDARD
BEGIN:DAYLIGHT
TZOFFSETFROM:-0600
TZOFFSETTO:-0500
TZNAME:CDT
DTSTART:20230312T080000
END:DAYLIGHT
BEGIN:STANDARD
TZOFFSETFROM:-0500
TZOFFSETTO:-0600
TZNAME:CST
DTSTART:20231105T070000
END:STANDARD
BEGIN:DAYLIGHT
TZOFFSETFROM:-0600
TZOFFSETTO:-0500
TZNAME:CDT
DTSTART:20240310T080000
END:DAYLIGHT
BEGIN:STANDARD
TZOFFSETFROM:-0500
TZOFFSETTO:-0600
TZNAME:CST
DTSTART:20241103T070000
END:STANDARD
BEGIN:DAYLIGHT
TZOFFSETFROM:-0600
TZOFFSETTO:-0500
TZNAME:CDT
DTSTART:20250309T080000
END:DAYLIGHT
BEGIN:STANDARD
TZOFFSETFROM:-0500
TZOFFSETTO:-0600
TZNAME:CST
DTSTART:20251102T070000
END:STANDARD
BEGIN:DAYLIGHT
TZOFFSETFROM:-0600
TZOFFSETTO:-0500
TZNAME:CDT
DTSTART:20260308T080000
END:DAYLIGHT
BEGIN:STANDARD
TZOFFSETFROM:-0500
TZOFFSETTO:-0600
TZNAME:CST
DTSTART:20261101T070000
END:STANDARD
END:VTIMEZONE
BEGIN:VEVENT
DTSTART;TZID=America/Chicago:20251101T090000
DTEND;TZID=America/Chicago:20251101T120000
DTSTAMP:20260425T090807
CREATED:20250910T161401Z
LAST-MODIFIED:20251017T142957Z
UID:10117001-1761987600-1761998400@www.huntsvilleal.gov
SUMMARY:Mayor's Tree Planting
DESCRIPTION:Join Mayor Tommy Battle at his annual tree planting event on Saturday\, Nov. 1\, from 9 a.m. to noon at Brahan Spring Park\, 2800 Drake Avenue SW and follow signs for parking instructions. We need your help planting hundreds of trees to expand the tree canopy! Green Team will be on site to help volunteers of all ages plant trees and we will have free tree giveaways.
URL:https://www.huntsvilleal.gov/city-calendar-event/mayors-tree-planting/
LOCATION:Brahan Spring Park
CATEGORIES:Brahan Spring Recreation Center,Green Team,Mayor's Calendar
ORGANIZER;CN="Landscape Management - Green Team":MAILTO:Green.Team@HuntsvilleAL.gov
GEO:34.7041326;-86.6008122
END:VEVENT
BEGIN:VEVENT
DTSTART;TZID=America/Chicago:20250607T070000
DTEND;TZID=America/Chicago:20250607T220000
DTSTAMP:20260425T090807
CREATED:20250425T204145Z
LAST-MODIFIED:20250425T204145Z
UID:10116849-1749279600-1749333600@www.huntsvilleal.gov
SUMMARY:Fishing Rodeo
DESCRIPTION:Bait your hook and join the fun. The Wally Vess Youth Fishing Rodeo returns Saturday\, June 7\, from 7-10 a.m.\, with plenty of opportunity for reelin’ in a big one. For ages 6-12. Register here.
URL:https://www.huntsvilleal.gov/city-calendar-event/fishing-rodeo/
LOCATION:Brahan Spring Park
CATEGORIES:Parks & Recreation
GEO:34.7041326;-86.6008122
END:VEVENT
BEGIN:VEVENT
DTSTART;TZID=America/Chicago:20250224T120000
DTEND;TZID=America/Chicago:20250224T130000
DTSTAMP:20260425T090807
CREATED:20250221T201035Z
LAST-MODIFIED:20250221T231810Z
UID:10101626-1740398400-1740402000@www.huntsvilleal.gov
SUMMARY:Arbor Day Celebration
DESCRIPTION:The Huntsville Tree Commission will celebrate Arbor Day on Monday\, Feb. 24\, from noon-1 p.m. at Brahan Spring Park (1st Street at Newby Road\, Pavilion No. 1)
URL:https://www.huntsvilleal.gov/city-calendar-event/arbor-day-celebration/
LOCATION:Brahan Spring Park
CATEGORIES:City News,Green Team
ORGANIZER;CN="Green Team":MAILTO:green.team@huntsvilleal.gov
GEO:34.7041326;-86.6008122
END:VEVENT
BEGIN:VEVENT
DTSTART;TZID=America/Chicago:20240709T090000
DTEND;TZID=America/Chicago:20240709T120000
DTSTAMP:20260425T090807
CREATED:20240617T143720Z
LAST-MODIFIED:20240617T143720Z
UID:10101302-1720515600-1720526400@www.huntsvilleal.gov
SUMMARY:Tie-Dye in July
DESCRIPTION:Children ages 12 and under are invited to enjoy a morning of tie-dying\, popsicles and fun on Tuesday\, July 9\, from 9 a.m.-noon\, at Brahan Spring Park pavilion. Bring a white T-shirt or similar item to dye. All other supplies provided. Cool off at EveryBody Can Play Splash Pad. Take-home gift while supplies last.
URL:https://www.huntsvilleal.gov/city-calendar-event/tie-dye-in-july-2/
LOCATION:Brahan Spring Park
CATEGORIES:City News,Parks & Recreation
GEO:34.7041326;-86.6008122
END:VEVENT
BEGIN:VEVENT
DTSTART;TZID=America/Chicago:20230603T070000
DTEND;TZID=America/Chicago:20230603T110000
DTSTAMP:20260425T090807
CREATED:20230421T182927Z
LAST-MODIFIED:20230602T033254Z
UID:10088315-1685775600-1685790000@www.huntsvilleal.gov
SUMMARY:Youth Fishing Rodeo
DESCRIPTION:The annual Wally Vess Youth Fishing Rodeo\, for ages 6-12\, is Saturday\, June 3 at Brahan Spring Park Lagoon. Registration starts at 7 a.m.. Fishing is from 8:30-10:30 a.m. Prizes and trophies will be awarded to winners in multiple categories. Bring your own chairs\, equipment and bait.
URL:https://www.huntsvilleal.gov/city-calendar-event/youth-fishing-rodeo/
LOCATION:Brahan Spring Park
CATEGORIES:Parks & Recreation
GEO:34.7041326;-86.6008122
END:VEVENT
BEGIN:VEVENT
DTSTART;TZID=America/Chicago:20190430T080000
DTEND;TZID=America/Chicago:20190430T113000
DTSTAMP:20260425T090807
CREATED:20190313T214333Z
LAST-MODIFIED:20200317T204244Z
UID:10077171-1556611200-1556623800@www.huntsvilleal.gov
SUMMARY:CANCELLED: Senior Fishing Rodeo
DESCRIPTION:Due to concerns over the spreading of COVID-19 this event has been cancelled. \n____________________________________________________________________________________ \nBring your own equipment and bait… we will pre-stock the lagoon with catfish and have prizes! \nOpen to ages 55+ (Ages 65 and under need a fishing license.) \nAwards for the Heaviest Fish\, Most Fish and Oldest to Catch a Fish! \nArrive between 8:00 a.m. and 9:00 a.m. to register and be eligible for awards and prizes. \n  \nQuestions? Contact Ray Green at 256-851-4040 \n  \nFree event!
URL:https://www.huntsvilleal.gov/city-calendar-event/senior-fishing-rodeo-3/
LOCATION:Brahan Spring Park
CATEGORIES:Parks & Recreation
ATTACH;FMTTYPE=image/png:https://www.huntsvilleal.gov/wp-content/uploads/2019/03/Senior-Fishing-3.png
GEO:34.7041326;-86.6008122
END:VEVENT
BEGIN:VEVENT
DTSTART;TZID=America/Chicago:20180602T070000
DTEND;TZID=America/Chicago:20180602T110000
DTSTAMP:20260425T090807
CREATED:20180515T184943Z
LAST-MODIFIED:20180515T191955Z
UID:10075986-1527922800-1527937200@www.huntsvilleal.gov
SUMMARY:The Wally Vess Youth Fishing Rodeo
DESCRIPTION:Free fishing event for kids ages 6-12 years old. \nBrahan Spring Park North Lagoon will be stocked with catfish and different age groups will be eligible for prizes. There will also be tagged fish worth cash. \nBring your own fishing equipment and bait. \nRegister between 7:00 a.m. and 8:30 a.m. to be eligible for prizes. Fish from 8:30 a.m. to 10:30 a.m. and prizes will be awarded after. \nCall with questions at 256-883-3728.
URL:https://www.huntsvilleal.gov/city-calendar-event/the-wally-vess-youth-fishing-rodeo/
LOCATION:Brahan Spring Park
CATEGORIES:Brahan Spring Recreation Center,Parks & Recreation
ATTACH;FMTTYPE=image/png:https://www.huntsvilleal.gov/wp-content/uploads/2018/05/Youth-Fishing-Rodeo-Facebook-Cover-2018.png
GEO:34.7041326;-86.6008122
END:VEVENT
BEGIN:VEVENT
DTSTART;TZID=America/Chicago:20180419T080000
DTEND;TZID=America/Chicago:20180419T113000
DTSTAMP:20260425T090807
CREATED:20180216T195743Z
LAST-MODIFIED:20180216T195743Z
UID:10083092-1524124800-1524137400@www.huntsvilleal.gov
SUMMARY:Senior Fishing Rodeo
DESCRIPTION:Come join this free event for local Senior Citizens at the Brahan Spring Park Lagoon! Register in the morning from 8 a.m. to 9 a.m. at the lagoon pavilion and enjoy fishing the stocked lagoon from 9 a.m. to 11:30 a.m. \nAwards for heaviest fish\, most fish and oldest fisher to catch a fish! Door prizes throughout the event! \nYou must bring your own fishing equipment and a fishing license is required for all participants under 65 years old. \nContact Henry Pope with any questions- Henry.Pope@huntsvilleal.gov or 256-746-4145
URL:https://www.huntsvilleal.gov/city-calendar-event/senior-fishing-rodeo-2/
LOCATION:Brahan Spring Park
CATEGORIES:Parks & Recreation
ATTACH;FMTTYPE=image/png:https://www.huntsvilleal.gov/wp-content/uploads/2018/02/Senior-Fishing-Black.png
GEO:34.7041326;-86.6008122
END:VEVENT
BEGIN:VEVENT
DTSTART;TZID=America/Chicago:20170603T083000
DTEND;TZID=America/Chicago:20170603T103000
DTSTAMP:20260425T090807
CREATED:20170519T182449Z
LAST-MODIFIED:20170519T182643Z
UID:10070024-1496478600-1496485800@www.huntsvilleal.gov
SUMMARY:The Wally Vess Youth Fishing Rodeo
DESCRIPTION:The event is free for ages 6 -12 and will be at the Brahan Spring Park Lagoon.\nBring your own equipment and bait.\nRegister from 7 a.m. – 8:30a.m. to be eligible for awards and prizes. \nFor more information\, please visit:\nwww.huntsvilleal.gov/recreation \n 
URL:https://www.huntsvilleal.gov/city-calendar-event/wally-vess-youth-fishing-rodeo/
LOCATION:Brahan Spring Park
CATEGORIES:Police Department
GEO:34.7041326;-86.6008122
END:VEVENT
BEGIN:VEVENT
DTSTART;TZID=America/Chicago:20170603T083000
DTEND;TZID=America/Chicago:20170603T103000
DTSTAMP:20260425T090807
CREATED:20170504T161419Z
LAST-MODIFIED:20170601T183000Z
UID:10076009-1496478600-1496485800@www.huntsvilleal.gov
SUMMARY:The Wally Vess Youth Fishing Rodeo
DESCRIPTION:Join us at the Brahan Spring Park Lagoon for a free fishing rodeo for boys & girls ages 6-12! Bring your own equipment and bait and try your chances at catching a tagged fish for prizes or receive awards for the most fish caught! \nRegistration is 7:00 a.m.- 8:30 a.m \nFishing 8:30 a.m. – 10:30 a.m \nWeighing and Prizes 10:30 a.m.- 11:30 a.m.
URL:https://www.huntsvilleal.gov/city-calendar-event/wally-vess-fishing-rodeo/
LOCATION:Brahan Spring Park
CATEGORIES:Parks & Recreation
ATTACH;FMTTYPE=image/png:https://www.huntsvilleal.gov/wp-content/uploads/2017/05/SAVE-THE-DATE-YOUTH-FISHING-RODEO-2.png
GEO:34.7041326;-86.6008122
END:VEVENT
END:VCALENDAR