BEGIN:VCALENDAR
VERSION:2.0
PRODID:-//City of Huntsville - ECPv6.15.20//NONSGML v1.0//EN
CALSCALE:GREGORIAN
METHOD:PUBLISH
X-WR-CALNAME:City of Huntsville
X-ORIGINAL-URL:https://www.huntsvilleal.gov
X-WR-CALDESC:Events for City of Huntsville
REFRESH-INTERVAL;VALUE=DURATION:PT1H
X-Robots-Tag:noindex
X-PUBLISHED-TTL:PT1H
BEGIN:VTIMEZONE
TZID:America/Chicago
BEGIN:DAYLIGHT
TZOFFSETFROM:-0600
TZOFFSETTO:-0500
TZNAME:CDT
DTSTART:20250309T080000
END:DAYLIGHT
BEGIN:STANDARD
TZOFFSETFROM:-0500
TZOFFSETTO:-0600
TZNAME:CST
DTSTART:20251102T070000
END:STANDARD
BEGIN:DAYLIGHT
TZOFFSETFROM:-0600
TZOFFSETTO:-0500
TZNAME:CDT
DTSTART:20260308T080000
END:DAYLIGHT
BEGIN:STANDARD
TZOFFSETFROM:-0500
TZOFFSETTO:-0600
TZNAME:CST
DTSTART:20261101T070000
END:STANDARD
BEGIN:DAYLIGHT
TZOFFSETFROM:-0600
TZOFFSETTO:-0500
TZNAME:CDT
DTSTART:20270314T080000
END:DAYLIGHT
BEGIN:STANDARD
TZOFFSETFROM:-0500
TZOFFSETTO:-0600
TZNAME:CST
DTSTART:20271107T070000
END:STANDARD
END:VTIMEZONE
BEGIN:VEVENT
DTSTART;TZID=America/Chicago:20260602T173000
DTEND;TZID=America/Chicago:20260602T173000
DTSTAMP:20260423T030140
CREATED:20260416T194934Z
LAST-MODIFIED:20260416T194934Z
UID:10118313-1780421400-1780421400@www.huntsvilleal.gov
SUMMARY:District 1 Community Meeting with Huntsville Utilities
DESCRIPTION:Council Member Michelle Watkins will hold a District 1 Community Meeting on Tuesday\, June 2\, at 5:30 p.m. at the North Huntsville Public Library\, 3011 Sparkman Dr. NW. Representatives from Huntsville Utilities will give a presentation and speak with customers.
URL:https://www.huntsvilleal.gov/city-calendar-event/district-1-community-meeting-with-huntsville-utilities/
LOCATION:North Huntsville Library\, 3011 Sparkman Drive NW\, Huntsville\, AL\, 35810\, United States
CATEGORIES:Council District 1
ORGANIZER;CN="City Council":MAILTO:HsvCityCouncil@HuntsvilleAL.gov
GEO:34.7601292;-86.6109375
X-APPLE-STRUCTURED-LOCATION;VALUE=URI;X-ADDRESS=North Huntsville Library 3011 Sparkman Drive NW Huntsville AL 35810 United States;X-APPLE-RADIUS=500;X-TITLE=3011 Sparkman Drive NW:geo:-86.6109375,34.7601292
END:VEVENT
END:VCALENDAR