BEGIN:VCALENDAR
VERSION:2.0
PRODID:-//City of Huntsville - ECPv6.15.20//NONSGML v1.0//EN
CALSCALE:GREGORIAN
METHOD:PUBLISH
X-WR-CALNAME:City of Huntsville
X-ORIGINAL-URL:https://www.huntsvilleal.gov
X-WR-CALDESC:Events for City of Huntsville
REFRESH-INTERVAL;VALUE=DURATION:PT1H
X-Robots-Tag:noindex
X-PUBLISHED-TTL:PT1H
BEGIN:VTIMEZONE
TZID:America/Chicago
BEGIN:DAYLIGHT
TZOFFSETFROM:-0600
TZOFFSETTO:-0500
TZNAME:CDT
DTSTART:20250309T080000
END:DAYLIGHT
BEGIN:STANDARD
TZOFFSETFROM:-0500
TZOFFSETTO:-0600
TZNAME:CST
DTSTART:20251102T070000
END:STANDARD
BEGIN:DAYLIGHT
TZOFFSETFROM:-0600
TZOFFSETTO:-0500
TZNAME:CDT
DTSTART:20260308T080000
END:DAYLIGHT
BEGIN:STANDARD
TZOFFSETFROM:-0500
TZOFFSETTO:-0600
TZNAME:CST
DTSTART:20261101T070000
END:STANDARD
BEGIN:DAYLIGHT
TZOFFSETFROM:-0600
TZOFFSETTO:-0500
TZNAME:CDT
DTSTART:20270314T080000
END:DAYLIGHT
BEGIN:STANDARD
TZOFFSETFROM:-0500
TZOFFSETTO:-0600
TZNAME:CST
DTSTART:20271107T070000
END:STANDARD
END:VTIMEZONE
BEGIN:VEVENT
DTSTART;TZID=America/Chicago:20260507T180000
DTEND;TZID=America/Chicago:20260507T180000
DTSTAMP:20260420T163145
CREATED:20260218T210414Z
LAST-MODIFIED:20260218T210442Z
UID:10118090-1778176800-1778176800@www.huntsvilleal.gov
SUMMARY:District 3 Town Hall with Council Member Jennie Robinson
DESCRIPTION:Join Council Member Jennie Robinson for a District 3 Town Hall on Thursday\, May 7\, at 6 p.m. at the Sandra Moon Community Complex\, 7901 Bailey Cove Rd. SE. City Planner James Vandiver will be the featured speaking discussing the 2025 City of Huntsville Development Review with a focus on District 3.
URL:https://www.huntsvilleal.gov/city-calendar-event/district-3-town-hall-with-council-member-jennie-robinson-2/
LOCATION:Sandra Moon Community Complex\, 7901 Bailey Cove Road\, Huntsville\, 35802\, United States
CATEGORIES:Council District 3
ORGANIZER;CN="City Council":MAILTO:HsvCityCouncil@HuntsvilleAL.gov
GEO:34.661103;-86.5394216
X-APPLE-STRUCTURED-LOCATION;VALUE=URI;X-ADDRESS=Sandra Moon Community Complex 7901 Bailey Cove Road Huntsville 35802 United States;X-APPLE-RADIUS=500;X-TITLE=7901 Bailey Cove Road:geo:-86.5394216,34.661103
END:VEVENT
END:VCALENDAR